BEGIN:VCALENDAR
VERSION:2.0
PRODID:icalendar-ruby
CALSCALE:GREGORIAN
METHOD:PUBLISH
BEGIN:VEVENT
DTSTAMP:20260421T083047Z
UID:145-528867@centerbethel.com
DTSTART:20260626T173000Z
DTEND:20260627T160000Z
CLASS:PUBLIC
CREATED:20260311T210734
DESCRIPTION:1-2 Camp\n1-2 Camp ("one-two") is a one-night camp designed es
 pecially for campers who just completed 1st and 2nd grades.  Parents and 
 guardians are welcome to attend\, but by no means are they expected to att
 end.  If a loved one would like to join their camper on their first exper
 ience at camp\, please contact the office at 620-839-5525 and we can make 
 arrangements.  There is not a fee for a parent to attend\, but donations 
 are appreciated to help offset the parent’s cost of staying at HHCC.\nDA
 TE: June 26-27\, 2026\nCheck-in begins at 12:30pm.\nCamp ends at 11am.\nCo
 st: $75 if registered before April 1\; $100 from April 1 to June 11\;  $1
 25 after June 11\n*Partial and full scholarships are available. Please con
 tact JetTina for more details.\nNew for 2026: Free T-shirt included in reg
 istrations two weeks before the camp!\nRegistration Link:  (Choose the 
 ‘Supporting Church’ option) https://camphiddenhaven.churchcenter.com/
 registrations/events/3242461\nQuestions: Contact JetTina Richardson | jett
 ina@centerbethel.com
LAST-MODIFIED:20260311T210734
LOCATION:Hidden Haven Church Camp
SUMMARY:1-2 Camp
URL;VALUE=URI:https://centerbethel.com/events/1-2-camp/2026-06-26
ATTACH;FILENAME=2.png;FMTTYPE=image/png:https://dq5pwpg1q8ru0.cloudfront.ne
 t/2026/03/12/02/05/15/107984c4-ee01-4848-8c66-c16e84dd5411/2.png
END:VEVENT
END:VCALENDAR
